Workbook

Sheet Kopie zur Eingabe
C1: Abt. Gesundheit, Dez. Umwelthygiene, Umweltmedizin in Zusammenarbeit mit Radioaktivitätsmessstelle des LUNG MV
A3: Radioaktivitätsmessungen | E3: Kennung:
A4: bei Werten < Erfassungsgrenze EG wird EG eingesetzt
A6: Quartalsmessung | C6: Referenzaktivität [Bq/l] | E6: I | F6: II | G6: III | H6: IV | I6: Jahresmittel
A7: Probenahmedatum
A8: Messgröße | B8: Einheit | C8: bb) | D8: aa)
A9: α-gesamt | B9: Bq/l | C9: 0.05 | D9: 0.1
A10: Rn-222 | B10: Bq/l
A11: U-238 | B11: Bq/l | C11: 3
A12: U-234 | B12: Bq/l | C12: 2.8
A13: Ra-226 | B13: Bq/l | C13: 0.5
A14: Po-210 | B14: Bq/l | C14: 0.1
A15: Ra-228 | B15: Bq/l | C15: 0.2
A16: Pb-210 | B16: Bq/l | C16: 0.2
A17: U | B17: µg/l
A19: Wird die Richtdosis eingehalten?
A20: Wert Prüfung bb) | I20: =IF(OR(E9="",F9="",G9="",H9=""),"",ROUNDDOWN((E9+F9+G9+H9)/4,2))
A21: Prüfung bb) | E21: =IF(E9="","",IF(ROUNDDOWN(E9,2)<=$C9,"ja","nein")) | F21: =IF(F9="","",IF(ROUNDDOWN(F9,2)<=$C9,"ja","nein")) | G21: =IF(G9="","",IF(ROUNDDOWN(G9,2)<=$C9,"ja","nein")) | H21: =IF(H9="","",IF(ROUNDDOWN(H9,2)<=$C9,"ja","nein")) | I21: =IF(OR(E21="",F21="",G21="",H21=""),"",IF(SUM(IF(E21="ja",1,0)+IF(F21="ja",1,0)+IF(G21="ja",1,0)+IF(H21="ja",1,0))>=2,"ja","nein"))
A23: U-238 [Bq/l] aus U [µg/l] | E23: =IF(E17="","",'Kopie zur Eingabe'!C44) | F23: =IF(F17="","",'Kopie zur Eingabe'!D44) | G23: =IF(G17="","",'Kopie zur Eingabe'!E44) | H23: =IF(H17="","",'Kopie zur Eingabe'!F44)
A24: Diff. α-ges. - U-238 [Bq/l] | E24: =IF(E17="","",E9-E23) | F24: =IF(F17="","",F9-F23) | G24: =IF(G17="","",G9-G23) | H24: =IF(H17="","",H9-H23)
A25: Prüfung bb) U real | E25: =IF(E21="ja","ja",IF(E17="",E21,IF((E24/$C9+E23/$C11)<=1,"ja","nein"))) | F25: =IF(F21="ja","ja",IF(F17="",F21,IF((F24/$C9+F23/$C11)<=1,"ja","nein"))) | G25: =IF(G21="ja","ja",IF(G17="",G21,IF((G24/$C9+G23/$C11)<=1,"ja","nein"))) | H25: =IF(H21="ja","ja",IF(H17="",H21,IF((H24/$C9+H23/$C11)<=1,"ja","nein"))) | I25: =IF(OR(E25="",F25="",G25="",H25=""),"",IF(SUM(IF(E25="ja",1,0)+IF(F25="ja",1,0)+IF(G25="ja",1,0)+IF(H25="ja",1,0))>=2,"ja","nein"))
A27: Wert Prüfung aa) (≤1?) | E27: =IF(E15="","",E9/$D9+E15/$C15+E16/$C16) | F27: =IF(F15="","",F9/$D9+F15/$C15+F16/$C16) | G27: =IF(G15="","",G9/$D9+G15/$C15+G16/$C16) | H27: =IF(H15="","",H9/$D9+H15/$C15+H16/$C16) | I27: =IF(OR(E27="",F27="",G27="",H27=""),"",ROUNDDOWN((E27+F27+G27+H27)/4,2))
A28: Prüfung aa) | E28: =IF(E25="ja","ja",IF(E15="",E25,IF(((E9/$D9)+E15/$C15+E16/$C16)<=1,"ja","nein"))) | F28: =IF(F25="ja","ja",IF(F15="",F25,IF(((F9/$D9)+F15/$C15+F16/$C16)<=1,"ja","nein"))) | G28: =IF(G25="ja","ja",IF(G15="",G25,IF(((G9/$D9)+G15/$C15+G16/$C16)<=1,"ja","nein"))) | H28: =IF(H25="ja","ja",IF(H15="",H25,IF(((H9/$D9)+H15/$C15+H16/$C16)<=1,"ja","nein"))) | I28: =IF(OR(E28="",F28="",G28="",H28=""),"",IF(SUM(IF(E28="ja",1,0)+IF(F28="ja",1,0)+IF(G28="ja",1,0)+IF(H28="ja",1,0))>=2,"ja","nein"))
A29: Wert Prüfung dd) (≤0,5?) | E29: =IF(E13="","",(E13/$C13)+(E15/$C15)) | F29: =IF(F13="","",(F13/$C13)+(F15/$C15)) | G29: =IF(G13="","",(G13/$C13)+(G15/$C15)) | H29: =IF(H13="","",(H13/$C13)+(H15/$C15)) | I29: =IF(OR(E29="",F29="",G29="",H29=""),"",ROUNDDOWN((E29+F29+G29+H29)/4,2))
A30: Prüfung dd) | E30: =IF(E28="ja","ja",IF(E13="",E28,IF(E9>=0.25,"nein",IF(E10>=100,"nein",IF((E13/$C13+E15/$C15)<=0.5,"ja","nein"))))) | F30: =IF(F28="ja","ja",IF(F13="",F28,IF(F9>=0.25,"nein",IF(F10>=100,"nein",IF((F13/$C13+F15/$C15)<=0.5,"ja","nein"))))) | G30: =IF(G28="ja","ja",IF(G13="",G28,IF(G9>=0.25,"nein",IF(G10>=100,"nein",IF((G13/$C13+G15/$C15)<=0.5,"ja","nein"))))) | H30: =IF(H28="ja","ja",IF(H13="",H28,IF(H9>=0.25,"nein",IF(H10>=100,"nein",IF((H13/$C13+H15/$C15)<=0.5,"ja","nein"))))) | I30: =IF(OR(E30="",F30="",G30="",H30=""),"",IF(SUM(IF(E30="ja",1,0)+IF(F30="ja",1,0)+IF(G30="ja",1,0)+IF(H30="ja",1,0))>=2,"ja","nein"))
A31: Wert Prüfung cc) (≤1?) | E31: =IF(E14="","",(E11/$C11)+(E12/$C12)+(E13/$C13)+(E14/$C14)+(E15/$C15)+(E16/$C16)) | F31: =IF(F14="","",(F11/$C11)+(F12/$C12)+(F13/$C13)+(F14/$C14)+(F15/$C15)+(F16/$C16)) | G31: =IF(G14="","",(G11/$C11)+(G12/$C12)+(G13/$C13)+(G14/$C14)+(G15/$C15)+(G16/$C16)) | H31: =IF(H14="","",(H11/$C11)+(H12/$C12)+(H13/$C13)+(H14/$C14)+(H15/$C15)+(H16/$C16)) | I31: =IF(OR(E31="",F31="",G31="",H31=""),"",ROUNDDOWN((E31+F31+G31+H31)/4,2))
A32: Prüfung cc) | E32: =IF(E30="ja","ja",IF(E14="",E30,IF((E11/$C11+E12/$C12+E13/$C13+E15/$C15+E16/$C16+E14/$C14)<=1,"ja","nein"))) | F32: =IF(F30="ja","ja",IF(F14="",F30,IF((F11/$C11+F12/$C12+F13/$C13+F15/$C15+F16/$C16+F14/$C14)<=1,"ja","nein"))) | G32: =IF(G30="ja","ja",IF(G14="",G30,IF((G11/$C11+G12/$C12+G13/$C13+G15/$C15+G16/$C16+G14/$C14)<=1,"ja","nein"))) | H32: =IF(H30="ja","ja",IF(H14="",H30,IF((H11/$C11+H12/$C12+H13/$C13+H15/$C15+H16/$C16+H14/$C14)<=1,"ja","nein"))) | I32: =IF(OR(E32="",F32="",G32="",H32=""),"",IF(SUM(IF(E32="ja",1,0)+IF(F32="ja",1,0)+IF(G32="ja",1,0)+IF(H32="ja",1,0))>=2,"ja","nein"))
A34: Masse-Aktivitäts-Beziehung für Uran-Nuklide
B35: Konstanten: | D35: U-234 | E35: U-235 | F35: U-238
C36: Isotopenzus. In Gew-% | D36: 0.0054 | E36: 0.7204 | F36: 99.2742
C37: T(1/2) in a | D37: 245500 | E37: 703800000 | F37: 4468000000
C38: Ar in g | D38: 234 | E38: 235 | F38: 238
C40: Messung 1 | D40: Messung 2 | E40: Messung 3 | F40: Messung 4
A41: U [µg/l] | C41: ='Kopie zur Eingabe'!E17 -> 0 | D41: ='Kopie zur Eingabe'!F17 -> 0 | E41: ='Kopie zur Eingabe'!G17 -> 0 | F41: ='Kopie zur Eingabe'!H17 -> 0
A42: U [g/l] | C42: =C41*0.000001 -> 0 | D42: =D41*0.000001 -> 0 | E42: =E41*0.000001 -> 0 | F42: =F41*0.000001 -> 0
A43: U-238 | B43: M-Anteil [g] | C43: =C$42*($F$36/100) -> 0 | D43: =D$42*($F$36/100) -> 0 | E43: =E$42*($F$36/100) -> 0 | F43: =F$42*($F$36/100) -> 0
B44: Aktivität [Bq/l] | C44: =13200000000000000*C43/($F$37*$F$38) -> 0 | D44: =13200000000000000*D43/($F$37*$F$38) -> 0 | E44: =13200000000000000*E43/($F$37*$F$38) -> 0 | F44: =13200000000000000*F43/($F$37*$F$38) -> 0
A45: U-234 | B45: M-Anteil [g] | C45: =C$42*($D$36/100) -> 0 | D45: =D$42*($D$36/100) -> 0 | E45: =E$42*($D$36/100) -> 0 | F45: =F$42*($D$36/100) -> 0
B46: Aktivität [Bq/l] | C46: =13200000000000000*C45/($D$37*$D$38) -> 0 | D46: =13200000000000000*D45/($D$37*$D$38) -> 0 | E46: =13200000000000000*E45/($D$37*$D$38) -> 0 | F46: =13200000000000000*F45/($D$37*$D$38) -> 0
A47: U-235 | B47: M-Anteil [g] | C47: =C$42*($E$36/100) -> 0 | D47: =D$42*($E$36/100) -> 0 | E47: =E$42*($E$36/100) -> 0 | F47: =F$42*($E$36/100) -> 0
...

Sheet WW xyz
C1: Abt. Gesundheit, Dez. Umwelthygiene, Umweltmedizin in Zusammenarbeit mit Radioaktivitätsmessstelle des LUNG MV
A3: Radioaktivitätsmessungen | E3: Kennung: | F3: WW xyz
A4: bei Werten < Erfassungsgrenze EG wird EG eingesetzt
A6: Quartalsmessung | C6: Referenzaktivität [Bq/l] | E6: I | F6: II | G6: III | H6: IV | I6: Jahresmittel
A7: Probenahmedatum | E7: 42809 | F7: 42907 | G7: 42970 | H7: 43068
A8: Messgröße | B8: Einheit | C8: bb) | D8: aa)
A9: α-gesamt | B9: Bq/l | C9: 0.05 | D9: 0.1 | F9: 0.067 | G9: 0.064 | H9: 0.042
A10: Rn-222 | B10: Bq/l | E10: 4.9 | F10: 4.9 | G10: 4.4 | H10: 3
A11: U-238 | B11: Bq/l | C11: 3
A12: U-234 | B12: Bq/l | C12: 2.8
A13: Ra-226 | B13: Bq/l | C13: 0.5 | G13: 0.008
A14: Po-210 | B14: Bq/l | C14: 0.1
A15: Ra-228 | B15: Bq/l | C15: 0.2 | G15: 0.01 | H15: 0.01
A16: Pb-210 | B16: Bq/l | C16: 0.2 | G16: 0.007 | H16: 0.01
A17: U | B17: µg/l
A19: Wird die Richtdosis eingehalten?
A20: Wert Prüfung bb) | I20: =IF(OR(E9="",F9="",G9="",H9=""),"",ROUNDDOWN((E9+F9+G9+H9)/4,2))
A21: Prüfung bb) | E21: =IF(E9="","",IF(ROUNDDOWN(E9,2)<=$C9,"ja","nein")) | F21: =IF(F9="","",IF(ROUNDDOWN(F9,2)<=$C9,"ja","nein")) -> nein | G21: =IF(G9="","",IF(ROUNDDOWN(G9,2)<=$C9,"ja","nein")) -> nein | H21: =IF(H9="","",IF(ROUNDDOWN(H9,2)<=$C9,"ja","nein")) -> ja | I21: =IF(OR(E21="",F21="",G21="",H21=""),"",IF(SUM(IF(E21="ja",1,0)+IF(F21="ja",1,0)+IF(G21="ja",1,0)+IF(H21="ja",1,0))>=2,"ja","nein"))
A23: U-238 [Bq/l] aus U [µg/l] | E23: =IF(E17="","",'WW xyz'!C44) | F23: =IF(F17="","",'WW xyz'!D44) | G23: =IF(G17="","",'WW xyz'!E44) | H23: =IF(H17="","",'WW xyz'!F44)
A24: Diff. α-ges. - U-238 [Bq/l] | E24: =IF(E17="","",E9-E23) | F24: =IF(F17="","",F9-F23) | G24: =IF(G17="","",G9-G23) | H24: =IF(H17="","",H9-H23)
A25: Prüfung bb) U real | E25: =IF(E21="ja","ja",IF(E17="",E21,IF((E24/$C9+E23/$C11)<=1,"ja","nein"))) | F25: =IF(F21="ja","ja",IF(F17="",F21,IF((F24/$C9+F23/$C11)<=1,"ja","nein"))) -> nein | G25: =IF(G21="ja","ja",IF(G17="",G21,IF((G24/$C9+G23/$C11)<=1,"ja","nein"))) -> nein | H25: =IF(H21="ja","ja",IF(H17="",H21,IF((H24/$C9+H23/$C11)<=1,"ja","nein"))) -> ja | I25: =IF(OR(E25="",F25="",G25="",H25=""),"",IF(SUM(IF(E25="ja",1,0)+IF(F25="ja",1,0)+IF(G25="ja",1,0)+IF(H25="ja",1,0))>=2,"ja","nein"))
A27: Wert Prüfung aa) (≤1?) | E27: =IF(E15="","",E9/$D9+E15/$C15+E16/$C16) | F27: =IF(F15="","",F9/$D9+F15/$C15+F16/$C16) | G27: =IF(G15="","",G9/$D9+G15/$C15+G16/$C16) -> 0.725 | H27: =IF(H15="","",H9/$D9+H15/$C15+H16/$C16) -> 0.52 | I27: =IF(OR(E27="",F27="",G27="",H27=""),"",ROUNDDOWN((E27+F27+G27+H27)/4,2))
A28: Prüfung aa) | E28: =IF(E25="ja","ja",IF(E15="",E25,IF(((E9/$D9)+E15/$C15+E16/$C16)<=1,"ja","nein"))) | F28: =IF(F25="ja","ja",IF(F15="",F25,IF(((F9/$D9)+F15/$C15+F16/$C16)<=1,"ja","nein"))) -> nein | G28: =IF(G25="ja","ja",IF(G15="",G25,IF(((G9/$D9)+G15/$C15+G16/$C16)<=1,"ja","nein"))) -> ja | H28: =IF(H25="ja","ja",IF(H15="",H25,IF(((H9/$D9)+H15/$C15+H16/$C16)<=1,"ja","nein"))) -> ja | I28: =IF(OR(E28="",F28="",G28="",H28=""),"",IF(SUM(IF(E28="ja",1,0)+IF(F28="ja",1,0)+IF(G28="ja",1,0)+IF(H28="ja",1,0))>=2,"ja","nein"))
A29: Wert Prüfung dd) (≤0,5?) | E29: =IF(E13="","",(E13/$C13)+(E15/$C15)) | F29: =IF(F13="","",(F13/$C13)+(F15/$C15)) | G29: =IF(G13="","",(G13/$C13)+(G15/$C15)) -> 0.066 | H29: =IF(H13="","",(H13/$C13)+(H15/$C15)) | I29: =IF(OR(E29="",F29="",G29="",H29=""),"",ROUNDDOWN((E29+F29+G29+H29)/4,2))
A30: Prüfung dd) | E30: =IF(E28="ja","ja",IF(E13="",E28,IF(E9>=0.25,"nein",IF(E10>=100,"nein",IF((E13/$C13+E15/$C15)<=0.5,"ja","nein"))))) | F30: =IF(F28="ja","ja",IF(F13="",F28,IF(F9>=0.25,"nein",IF(F10>=100,"nein",IF((F13/$C13+F15/$C15)<=0.5,"ja","nein"))))) -> nein | G30: =IF(G28="ja","ja",IF(G13="",G28,IF(G9>=0.25,"nein",IF(G10>=100,"nein",IF((G13/$C13+G15/$C15)<=0.5,"ja","nein"))))) -> ja | H30: =IF(H28="ja","ja",IF(H13="",H28,IF(H9>=0.25,"nein",IF(H10>=100,"nein",IF((H13/$C13+H15/$C15)<=0.5,"ja","nein"))))) -> ja | I30: =IF(OR(E30="",F30="",G30="",H30=""),"",IF(SUM(IF(E30="ja",1,0)+IF(F30="ja",1,0)+IF(G30="ja",1,0)+IF(H30="ja",1,0))>=2,"ja","nein"))
A31: Wert Prüfung cc) (≤1?) | E31: =IF(E14="","",(E11/$C11)+(E12/$C12)+(E13/$C13)+(E14/$C14)+(E15/$C15)+(E16/$C16)) | F31: =IF(F14="","",(F11/$C11)+(F12/$C12)+(F13/$C13)+(F14/$C14)+(F15/$C15)+(F16/$C16)) | G31: =IF(G14="","",(G11/$C11)+(G12/$C12)+(G13/$C13)+(G14/$C14)+(G15/$C15)+(G16/$C16)) | H31: =IF(H14="","",(H11/$C11)+(H12/$C12)+(H13/$C13)+(H14/$C14)+(H15/$C15)+(H16/$C16)) | I31: =IF(OR(E31="",F31="",G31="",H31=""),"",ROUNDDOWN((E31+F31+G31+H31)/4,2))
A32: Prüfung cc) | E32: =IF(E30="ja","ja",IF(E14="",E30,IF((E11/$C11+E12/$C12+E13/$C13+E15/$C15+E16/$C16+E14/$C14)<=1,"ja","nein"))) | F32: =IF(F30="ja","ja",IF(F14="",F30,IF((F11/$C11+F12/$C12+F13/$C13+F15/$C15+F16/$C16+F14/$C14)<=1,"ja","nein"))) -> nein | G32: =IF(G30="ja","ja",IF(G14="",G30,IF((G11/$C11+G12/$C12+G13/$C13+G15/$C15+G16/$C16+G14/$C14)<=1,"ja","nein"))) -> ja | H32: =IF(H30="ja","ja",IF(H14="",H30,IF((H11/$C11+H12/$C12+H13/$C13+H15/$C15+H16/$C16+H14/$C14)<=1,"ja","nein"))) -> ja | I32: =IF(OR(E32="",F32="",G32="",H32=""),"",IF(SUM(IF(E32="ja",1,0)+IF(F32="ja",1,0)+IF(G32="ja",1,0)+IF(H32="ja",1,0))>=2,"ja","nein"))
A34: Masse-Aktivitäts-Beziehung für Uran-Nuklide
B35: Konstanten: | D35: U-234 | E35: U-235 | F35: U-238
C36: Isotopenzus. In Gew-% | D36: 0.0054 | E36: 0.7204 | F36: 99.2742
C37: T(1/2) in a | D37: 245500 | E37: 703800000 | F37: 4468000000
C38: Ar in g | D38: 234 | E38: 235 | F38: 238
C40: Messung 1 | D40: Messung 2 | E40: Messung 3 | F40: Messung 4
A41: U [µg/l] | C41: ='WW xyz'!E17 -> 0 | D41: ='WW xyz'!F17 -> 0 | E41: ='WW xyz'!G17 -> 0 | F41: ='WW xyz'!H17 -> 0
A42: U [g/l] | C42: =C41*0.000001 -> 0 | D42: =D41*0.000001 -> 0 | E42: =E41*0.000001 -> 0 | F42: =F41*0.000001 -> 0
A43: U-238 | B43: M-Anteil [g] | C43: =C$42*($F$36/100) -> 0 | D43: =D$42*($F$36/100) -> 0 | E43: =E$42*($F$36/100) -> 0 | F43: =F$42*($F$36/100) -> 0
B44: Aktivität [Bq/l] | C44: =13200000000000000*C43/($F$37*$F$38) -> 0 | D44: =13200000000000000*D43/($F$37*$F$38) -> 0 | E44: =13200000000000000*E43/($F$37*$F$38) -> 0 | F44: =13200000000000000*F43/($F$37*$F$38) -> 0
A45: U-234 | B45: M-Anteil [g] | C45: =C$42*($D$36/100) -> 0 | D45: =D$42*($D$36/100) -> 0 | E45: =E$42*($D$36/100) -> 0 | F45: =F$42*($D$36/100) -> 0
B46: Aktivität [Bq/l] | C46: =13200000000000000*C45/($D$37*$D$38) -> 0 | D46: =13200000000000000*D45/($D$37*$D$38) -> 0 | E46: =13200000000000000*E45/($D$37*$D$38) -> 0 | F46: =13200000000000000*F45/($D$37*$D$38) -> 0
A47: U-235 | B47: M-Anteil [g] | C47: =C$42*($E$36/100) -> 0 | D47: =D$42*($E$36/100) -> 0 | E47: =E$42*($E$36/100) -> 0 | F47: =F$42*($E$36/100) -> 0
...
