Workbook
Name Bereich1: Bezeichnungen!$A$2:$A$19
Name Bereich2: Bezeichnungen!$B$2:$B$6
Name Bereich3: Bezeichnungen!$C$2:$C$3
Name Bereich4: Bezeichnungen!$D$2:$D$10
Name Bereich5: Bezeichnungen!$E$2:$E$8
Name Bereich6: Bezeichnungen!$F$2:$F$3

Sheet Sofortmeldung
A1: Gesundheitsamt | B1: bitte auswählen
A2: Vorgangsnr. LALLF
A4: S o f o r t m e l d u n g
A5: über den Verdacht auf bzw. die Erkrankung an einer
A6: · mikrobiell bedingten Lebensmittelvergiftung (BELA-Meldung) oder
A7: · akuten infektiösen Gastroenteritis
A8: beim Auftreten von zwei oder mehr als zwei gleichartigen Erkrankungen im wahrscheinlichen oder vermuteten epidemischen Zusammenhang
A10: Sofortmeldung an:
A11: Ministerium für Soziales, Gesundheit und Sport
A12: E-mail: | B12: sofortmeldungen@sm.mv-regierung.de | C12: ja
A13: Landesamt für Gesundheit und Soziales
A14: E-mail: | B14: epi.meldung@lagus.mv-regierung.de | C14: ja
A15: Ministerium für Klimaschutz, Landwirtschaft, ländliche Räume und Umwelt
A16: E-mail: | B16: krisenzentrum@lm.mv-regierung.de | C16: ja
A17: Landesamt für Landwirtschaft, Lebensmittelsicherheit und Fischerei
A18: E-mail: | B18: lhd@lallf.mvnet.de | C18: ja
A19: Zuständiges Veterinär- und Lebensmittelüberwachungsamt | B19: bitte auswählen
A20: E-mail: | C20: ja
A22: Verdacht auf Geschehen (Zutreffendes bitte auswählen, keine Mehrfachauswahl möglich) | B22: bitte eine Auswahl treffen
A24: Ort der Erkrankten:
A25: Betrieb / Einrichtung / Sonstiges
A26: Postleitzahl
A27: Ort
A28: Straße
A31: Erstinformation an Gesundheitsamt:
A32: wann | E32: Datum
A33: Weitergabe an VLA | E33: Datum
A34: durch wen
A37: Personen in der Einrichtung | E37: Anzahl
A38: Anzahl ausgegebener Essenportionen | E38: Anzahl
A39: Essenteilnehmer | E39: Anzahl
A40: ggf. davon Personal im Lebensmittelverkehr | E40: Anzahl
A41: Erkrankte gesamt | E41: Anzahl
A43: Herdname (sofern schon in SURVnet vergeben)
A45: Verzehrte, als Infektionsquelle vermutete Lebensmittel
A46: Ort des Verzehrs / der Infektion (falls abweichend vom Erkrankungsort)
A47: Betrieb / Einrichtung / Sonstiges
A48: Postleitzahl
A49: Ort
A50: Straße
A52: Zeitpunkt des Verzehrs | E52: DD.MM.YYYY HH24:MI:SS
A53: Erkrankungsbeginn | E53: DD.MM.YYYY HH24:MI:SS
A56: Symptomatik
A57: Durchfall
A58: Fieber
A59: Übelkeit
A60: Bauchschmerzen
A61: Erbrechen
A62: Sonstige (wenn ja welche?)
A64: Schwere der Erkrankungen | B64: bitte auswählen
A65: Behandlung ambulant / stationär | E65: Anzahl/Anzahl
A66: Voraussichtliche Entwicklung
A67: Erregernachweise / Befunde
A68: Vorgesehene bzw. eingeleitete Maßnahmen
A70: Ort
A71: Datum
A72: Name des Bearbeiters
A74: * Bezug nehmend auf den gemeinsamen Erlass des SM und LM M-V
A75: Version xlsx: 1 | B75: Identifikator
B76: Ausfüllen
B77: Auswählen
B79: mit oder ohne Beschriftung gesperrt

Sheet Abschlussbericht
A1: Gesundheitsamt | B1: =IF(Sofortmeldung!B1<>"",Sofortmeldung!B1,"") -> bitte auswählen
A2: Vorgangsnr. LALLF | B2: =IF(Sofortmeldung!B2<>"",Sofortmeldung!B2,"")
A4: A b s c h l u s s b e r i c h t
A5: über die Erkrankungshäufung vom | B5: =IF(Sofortmeldung!B71<>"",Sofortmeldung!B71,"")
A6: · einer mikrobiell bedingten Lebensmittelvergiftung (BELA-Meldung) oder
A7: · einer akuten infektiösen Gastroenteritis
A8: beim Auftreten von zwei oder mehr als zwei gleichartigen Erkrankungen im wahrscheinlichen oder vermutetetn epidemischen Zusammenhang
A10: Sofortmeldung an:
A11: Ministerium für Soziales, Gesundheit und Sport
A12: E-mail: | B12: sofortmeldungen@sm.mv-regierung.de | C12: ja
A13: Landesamt für Gesundheit und Soziales
A14: E-mail: | B14: epi.meldung@lagus.mv-regierung.de | C14: ja
A15: Ministerium für Klimaschutz, Landwirtschaft, ländliche Räume und Umwelt
A16: E-mail: | B16: krisenzentrum@lm.mv-regierung.de | C16: ja
A17: Landesamt für Landwirtschaft, Lebensmittelsicherheit und Fischerei
A18: E-mail: | B18: lhd@lallf.mvnet.de | C18: ja
A19: Zuständiges Veterinär- und Lebensmittelüberwachungsamt | B19: =IF(Sofortmeldung!B19<>"",Sofortmeldung!B19,"") -> bitte auswählen
A20: E-mail: | C20: ja
A22: Ermittelte Ursache des Geschehens (Zutreffendes bitte auswählen, keine Mehrfachauswahl möglich) | B22: bitte eine Auswahl treffen
A23: Ort der Erkrankten:
A24: Betrieb / Einrichtung / Sonstiges | B24: =IF(Sofortmeldung!B25<>"",Sofortmeldung!B25,"")
A25: Postleitzahl | B25: =IF(Sofortmeldung!B26<>"",Sofortmeldung!B26,"")
A26: Ort | B26: =IF(Sofortmeldung!B27<>"",Sofortmeldung!B27,"")
A27: Straße | B27: =IF(Sofortmeldung!B28<>"",Sofortmeldung!B28,"")
A30: Herdname (Vergabe durch GA nach Erfassung SURVNet)
A32: Ort des Verzehrs / der Infektion (falls abweichend vom Erkrankungsort)
A33: Betrieb / Einrichtung / Sonstiges
A34: Postleitzahl
A35: Ort
A36: Straße
A38: Abschlussstand Datenerhebung:
A39: Personen in der Einrichtung | E39: Anzahl
A40: Anzahl ausgegebener Essenportionen | E40: Anzahl
A41: Essenteilnehmer | E41: Anzahl
A42: ggf. davon Personal im Lebensmittelverkehr | E42: Anzahl
A43: Erkrankte gesamt | E43: Anzahl
A46: Erkrankungsbeginn | B46: =IF(Sofortmeldung!B53<>"",Sofortmeldung!B53,"") | E46: DD.MM.YYYY HH24:MI:SS
A47: letzter Erkrankungstag | E47: DD.MM.YYYY HH24:MI:SS
A48: durchschnittl. Erkrankungsdauer der Einzelperson (in Tagen) | E48: Anzahl
A50: Symptomatik
A51: Durchfall | B51: =IF(Sofortmeldung!B57<>"",Sofortmeldung!B57,"")
A52: Fieber | B52: =IF(Sofortmeldung!B58<>"",Sofortmeldung!B58,"")
A53: Übelkeit | B53: =IF(Sofortmeldung!B59<>"",Sofortmeldung!B59,"")
A54: Bauchschmerzen | B54: =IF(Sofortmeldung!B60<>"",Sofortmeldung!B60,"")
A55: Erbrechen | B55: =IF(Sofortmeldung!B61<>"",Sofortmeldung!B61,"")
A56: Sonstiges | B56: =IF(Sofortmeldung!B62<>"",Sofortmeldung!B62,"")
A58: Schwere der Erkrankungen | B58: bitte auswählen
A59: Behandlung ambulant/stationär | E59: Anzahl/Anzahl
A61: Ergebnisse:
A62: Stuhluntersuchungen
A63: nachgew. Erreger
A64: ggf. Lysotyp
A65: Erkrankte mikrobiologisch bestätigt / klinisch | E65: Anzahl/Anzahl
A66: Erkrankte ggf. davon Personen im Lebensmittelverkehr
A67: Ausscheider
A69: VLA hinzugezogen
A70: VLA Epidemiologie / Erreger
A72: Ort
A73: Datum
A74: Name des Bearbeiters
B77: Identifikator
B78: Ausfüllen
B79: Auswählen
B81: mit oder ohne Beschriftung gesperrt

Sheet Zuarbeit Abschlussbericht
A1: Veterinäramt | B1: =IF(Sofortmeldung!B19<>"",Sofortmeldung!B19,"") -> bitte auswählen
A2: Vorgangsnr. LALLF | B2: =IF(Sofortmeldung!B2<>"",Sofortmeldung!B2,"")
A4: Zuarbeit zum A b s c h l u s s b e r i c h t
A5: über die Erkrankungshäufung vom | B5: =IF(Sofortmeldung!B71<>"",Sofortmeldung!B71,"")
A6: · mikrobiell bedingten Lebensmittelvergiftung (BELA-Meldung) oder
A7: · akuten infektiösen Gastroenteritis
A8: beim Auftreten von zwei oder mehr als zwei gleichartigen Erkrankungen im wahrscheinlichen oder vermutetetn epidemiologischen Zusammenhang
A10: Ministerium für Klimaschutz, Landwirtschaft, ländliche Räume und Umwelt
A11: E-mail: | B11: krisenzentrum@lm.mv-regierung.de | C11: ja
A12: Landesamt für Landwirtschaft, Lebensmittelsicherheit und Fischerei
A13: E-mail: | B13: lhd@lallf.mvnet.de | C13: ja
A14: Zuständiges Gesundheitsamt | B14: =IF(Sofortmeldung!B1<>"",Sofortmeldung!B1,"") -> bitte auswählen
A15: E-mail: | C15: ja
A17: Ort der Erkrankten:
A18: Betrieb / Einrichtung / Sonstiges | B18: =IF(Sofortmeldung!B25<>"",Sofortmeldung!B25,"")
A19: Postleitzahl | B19: =IF(Sofortmeldung!B26<>"",Sofortmeldung!B26,"")
A20: Ort | B20: =IF(Sofortmeldung!B27<>"",Sofortmeldung!B27,"")
A21: Straße | B21: =IF(Sofortmeldung!B28<>"",Sofortmeldung!B28,"")
A24: Ort des Verzehrs / der Infektion (falls abweichend vom Erkrankungsort)
A25: Betrieb / Einrichtung / Sonstiges
A26: Postleitzahl
A27: Ort
A28: Straße
A31: lebensmittelbedingte Ursache ermittelt
A32: Tupferproben mit Erregernachweis | D32: lebensmittelbedingt nein
A33: Verursachendes Lebensmittel | D33: Epidemiologische Anhaltspunkte lagen nicht vor
A34: Erreger / Toxin | D34: Verdachtsproben standen nicht zur Verfügung
A35: Angaben zur Epidemiologie: | D35: Spezifische Untersuchungen von Verdachts- /Verfolgsproben verliefen negativ
A36: primäre Kontamination | D36: Spezielle Hygienemängel und Behandlungsfehler lagen nicht vor
A37: sekundäre Kontamination
A38: Behandlungsfehler
A39: Sorgfaltspflicht verletzt
A40: Bemerkungen (lebensmittelbedingt Ja) | D40: Bemerkungen (lebensmittelbedingt nein)
A43: Ort
A44: Datum
A45: Name des Bearbeiters (Name des Amtstierarztes)
B50: Identifikator
B51: Ausfüllen
B52: Auswählen
B54: mit oder ohne Beschriftung gesperrt

Sheet Bezeichnungen
A2: bitte auswählen | B2: bitte eine Auswahl treffen | C2: ja | D2: bitte auswählen | E2: bitte auswählen | F2: trifft zu
A3: GA HRO | B3: lebensmittelbedingt | C3: nein | D3: VLA Rostock | E3: k.A. | F3: trifft nicht zu
A4: GA SN | B4: viral bedingt | D4: VLA Ludwigslust-Parchim | E4: leicht
A5: GA LRO - Bad Doberan | B5: bakteriell bedingt | D5: VLA Schwerin | E5: bis mittelschwer
A6: GA LRO - Güstrow | B6: unklare Genese | D6: VLA Mecklenburgische Seenplatte | E6: mittelschwer
A7: GA MSE - Neubrandenburg | D7: VLA Vorpommern-Greifswald | E7: bis schwer
A8: GA MSE - Demmin | D8: VLA Vorpommern-Rügen | E8: schwer
A9: GA MSE - Neustrelitz | D9: VLA Landkreis Rostock
A10: GA MSE - Waren | D10: VLA Nordwestmecklenburg
A11: GA NWM - Wismar
A12: GA VR - Stralsund
A13: GA VR - Bergen
A14: GA VR - Nordvorpommern
A15: GA VG - Greifswald
A16: GA VG - Anklam
A17: GA VG - Pasewalk
A18: GA LP - Ludwigslust
A19: GA LP - Parchim
